BEGIN:VCALENDAR
VERSION:2.0
PRODID:-//Fort Myers Christian Outreach Center - ECPv5.4.0.1//NONSGML v1.0//EN
CALSCALE:GREGORIAN
METHOD:PUBLISH
X-WR-CALNAME:Fort Myers Christian Outreach Center
X-ORIGINAL-URL:https://fmcoc.net
X-WR-CALDESC:Events for Fort Myers Christian Outreach Center
BEGIN:VTIMEZONE
TZID:America/New_York
BEGIN:DAYLIGHT
TZOFFSETFROM:-0500
TZOFFSETTO:-0400
TZNAME:EDT
DTSTART:20220313T070000
END:DAYLIGHT
BEGIN:STANDARD
TZOFFSETFROM:-0400
TZOFFSETTO:-0500
TZNAME:EST
DTSTART:20221106T060000
END:STANDARD
END:VTIMEZONE
BEGIN:VEVENT
DTSTART;TZID=America/New_York:20220628T090000
DTEND;TZID=America/New_York:20220628T120000
DTSTAMP:20260423T231710
CREATED:20210807T232424Z
LAST-MODIFIED:20220613T172159Z
UID:15574-1656406800-1656417600@fmcoc.net
SUMMARY:Heavenly Manna Food Pantry & Clothes Closet
DESCRIPTION:Every Tuesday and Thursday\, 9 AM to 12 PM\, FMCOC gives food and clothing to hundreds. No one is turned away. This ministry is supported by FMCOC Partners. The food is purchased each week from Harry Chapin Food Distrubution Center. It is top quality and always fresh. Each person is always shown love and that God loves them! Mathew 25:35-36 (NKJV)
URL:https://fmcoc.net/event/heavenly-manna-food-pantry-and-clothes-closet-2/
LOCATION:FMCOC\, 3500 Fowler St\, Fort Myers\, FL\, 33901
CATEGORIES:Food Pantry
ATTACH;FMTTYPE=image/jpeg:https://fmcoc.net/wp-content/uploads/2021/03/food-pantry-fmcoc.jpg
END:VEVENT
BEGIN:VEVENT
DTSTART;TZID=America/New_York:20220630T090000
DTEND;TZID=America/New_York:20220630T120000
DTSTAMP:20260423T231710
CREATED:20210902T233640Z
LAST-MODIFIED:20220613T172231Z
UID:15803-1656579600-1656590400@fmcoc.net
SUMMARY:Heavenly Manna Food Pantry & Clothes Closet (summer hours)
DESCRIPTION:Every Tuesday and Thursday\, 9 AM to 12 PM\, FMCOC gives food and clothing to hundreds. No one is turned away. This ministry is supported by FMCOC Partners. The food is purchased each week from Harry Chapin Food Distrubution Center. It is top quality and always fresh. Each person is always shown love and that God loves them! Mathew 25:35-36 (NKJV)
URL:https://fmcoc.net/event/heavenly-manna-food-pantry-clothes-closet-7/
CATEGORIES:Food Pantry
ATTACH;FMTTYPE=image/jpeg:https://fmcoc.net/wp-content/uploads/2021/03/food-pantry-fmcoc.jpg
END:VEVENT
BEGIN:VEVENT
DTSTART;TZID=America/New_York:20220630T193000
DTEND;TZID=America/New_York:20220630T210000
DTSTAMP:20260423T231710
CREATED:20210317T025223Z
LAST-MODIFIED:20220613T170800Z
UID:15724-1656617400-1656622800@fmcoc.net
SUMMARY:Ref Gen
DESCRIPTION:“Ref Gen\,” Reformation Generation Youth Group\, meets every Thursday at 7:30 PM. Youth Group is for teens that are ages 13-18. This Youth meeting is filled with fun\, food\, games and a Bible Study. There’s an awesome time of worship and sharing\, and events such as roller skating\, bowling and beach events. Ref Gen students also attend youth conferences when they are within driving distance.
URL:https://fmcoc.net/event/ref-gen/
LOCATION:FMCOC\, 3500 Fowler St\, Fort Myers\, FL\, 33901
CATEGORIES:Youth
ATTACH;FMTTYPE=image/jpeg:https://fmcoc.net/wp-content/uploads/2021/03/fmcoc-teens-2.jpg
END:VEVENT
BEGIN:VEVENT
DTSTART;TZID=America/New_York:20220703T100000
DTEND;TZID=America/New_York:20220703T120000
DTSTAMP:20260423T231710
CREATED:20210929T235019Z
LAST-MODIFIED:20220624T013559Z
UID:15825-1656842400-1656849600@fmcoc.net
SUMMARY:Sunday Morning with Pastor Roberts Liardon
DESCRIPTION:Pastor Roberts Liardon has ministered in over 125 countries and will be be sharing with us on July 3rd at 10 am. We invite you to join us at FMCOC in Fort Myers. You’re welcome to join us in-person\, or live-stream on our Facebook page or here on our website. \nAt FMCOC\, we believe the Bible is the inspired\, infallible and authoritative Word of God. We believe there is one God\, eternally existent in three persons; God the Father\, God the Son\, and God the Holy Spirit. We believe in the deity of our Lord Jesus Christ\, in His virgin birth\, in His sinless life\, in His miracles\, in His vicarious and atoning death\, in His bodily resurrection\, in His ascension to the right hand of the Father!
URL:https://fmcoc.net/event/sunday-morning-service-8/
CATEGORIES:Services
ATTACH;FMTTYPE=image/jpeg:https://fmcoc.net/wp-content/uploads/2021/09/fmcoc-calendar-sunday.jpg
END:VEVENT
BEGIN:VEVENT
DTSTART;TZID=America/New_York:20220705T090000
DTEND;TZID=America/New_York:20220705T120000
DTSTAMP:20260423T231710
CREATED:20210902T233507Z
LAST-MODIFIED:20220613T172407Z
UID:15801-1657011600-1657022400@fmcoc.net
SUMMARY:Heavenly Manna Food Pantry & Clothes Closet
DESCRIPTION:Every Tuesday and Thursday\, 9 AM to 12 PM\, FMCOC gives food and clothing to hundreds. No one is turned away. This ministry is supported by FMCOC Partners. The food is purchased each week from Harry Chapin Food Distrubution Center. It is top quality and always fresh. Each person is always shown love and that God loves them! Mathew 25:35-36 (NKJV)
URL:https://fmcoc.net/event/heavenly-manna-food-pantry-clothes-closet-6/
CATEGORIES:Food Pantry
ATTACH;FMTTYPE=image/jpeg:https://fmcoc.net/wp-content/uploads/2021/03/food-pantry-fmcoc.jpg
END:VEVENT
BEGIN:VEVENT
DTSTART;TZID=America/New_York:20220707T090000
DTEND;TZID=America/New_York:20220707T120000
DTSTAMP:20260423T231710
CREATED:20210902T234128Z
LAST-MODIFIED:20220613T172434Z
UID:15810-1657184400-1657195200@fmcoc.net
SUMMARY:Heavenly Manna Food Pantry & Clothes Closet
DESCRIPTION:Every Tuesday and Thursday\, 9 AM to 12 PM\, FMCOC gives food and clothing to hundreds. No one is turned away. This ministry is supported by FMCOC Partners. The food is purchased each week from Harry Chapin Food Distrubution Center. It is top quality and always fresh. Each person is always shown love and that God loves them! Mathew 25:35-36 (NKJV)
URL:https://fmcoc.net/event/heavenly-manna-food-pantry-clothes-closet-11/
CATEGORIES:Food Pantry
ATTACH;FMTTYPE=image/jpeg:https://fmcoc.net/wp-content/uploads/2021/03/food-pantry-fmcoc.jpg
END:VEVENT
BEGIN:VEVENT
DTSTART;TZID=America/New_York:20220707T193000
DTEND;TZID=America/New_York:20220707T210000
DTSTAMP:20260423T231710
CREATED:20210903T000006Z
LAST-MODIFIED:20220613T170829Z
UID:15831-1657222200-1657227600@fmcoc.net
SUMMARY:Ref Gen
DESCRIPTION:“Ref Gen\,” Reformation Generation Youth Group\, meets every Thursday at 7:30 PM. Youth Group is for teens that are ages 13-18. This Youth meeting is filled with fun\, food\, games and a Bible Study. There’s an awesome time of worship and sharing\, and events such as roller skating\, bowling and beach events. Ref Gen students also attend youth conferences when they are within driving distance.
URL:https://fmcoc.net/event/ref-gen-3/
CATEGORIES:Youth
ATTACH;FMTTYPE=image/jpeg:https://fmcoc.net/wp-content/uploads/2021/03/fmcoc-teens-2.jpg
END:VEVENT
BEGIN:VEVENT
DTSTART;TZID=America/New_York:20220710T100000
DTEND;TZID=America/New_York:20220710T120000
DTSTAMP:20260423T231710
CREATED:20210902T234914Z
LAST-MODIFIED:20220613T170137Z
UID:15821-1657447200-1657454400@fmcoc.net
SUMMARY:Sunday Morning Service
DESCRIPTION:Pastor Lynn Braco invites you to join us every Sunday morning\, 10 AM\, at FMCOC in Fort Myers. You’re welcome to join us in-person\, or live-stream on our Facebook page or here on our website. \nAt FMCOC\, we believe the Bible is the inspired\, infallible and authoritative Word of God. We believe there is one God\, eternally existent in three persons; God the Father\, God the Son\, and God the Holy Spirit. We believe in the deity of our Lord Jesus Christ\, in His virgin birth\, in His sinless life\, in His miracles\, in His vicarious and atoning death\, in His bodily resurrection\, in His ascension to the right hand of the Father!
URL:https://fmcoc.net/event/sunday-morning-service-6/
CATEGORIES:Services
ATTACH;FMTTYPE=image/jpeg:https://fmcoc.net/wp-content/uploads/2021/03/fmcoc-sundays.jpg
END:VEVENT
BEGIN:VEVENT
DTSTART;TZID=America/New_York:20220714T193000
DTEND;TZID=America/New_York:20220714T210000
DTSTAMP:20260423T231710
CREATED:20210902T235842Z
LAST-MODIFIED:20220613T170916Z
UID:15829-1657827000-1657832400@fmcoc.net
SUMMARY:Ref Gen
DESCRIPTION:“Ref Gen\,” Reformation Generation Youth Group\, meets every Thursday at 7:30 PM. Youth Group is for teens that are ages 13-18. This Youth meeting is filled with fun\, food\, games and a Bible Study. There’s an awesome time of worship and sharing\, and events such as roller skating\, bowling and beach events. Ref Gen students also attend youth conferences when they are within driving distance.
URL:https://fmcoc.net/event/ref-gen-2/
CATEGORIES:Youth
ATTACH;FMTTYPE=image/jpeg:https://fmcoc.net/wp-content/uploads/2021/09/fmcoc-calendar.jpg
END:VEVENT
BEGIN:VEVENT
DTSTART;TZID=America/New_York:20220717T100000
DTEND;TZID=America/New_York:20220717T120000
DTSTAMP:20260423T231710
CREATED:20210311T201845Z
LAST-MODIFIED:20220613T170204Z
UID:15613-1658052000-1658059200@fmcoc.net
SUMMARY:Sunday Morning Service
DESCRIPTION:Pastor Lynn Braco invites you to join us every Sunday morning\, 10 AM\, at FMCOC in Fort Myers. You’re welcome to join us in-person\, or live-stream on our Facebook page or here on our website. \nAt FMCOC\, we believe the Bible is the inspired\, infallible and authoritative Word of God. We believe there is one God\, eternally existent in three persons; God the Father\, God the Son\, and God the Holy Spirit. We believe in the deity of our Lord Jesus Christ\, in His virgin birth\, in His sinless life\, in His miracles\, in His vicarious and atoning death\, in His bodily resurrection\, in His ascension to the right hand of the Father!
URL:https://fmcoc.net/event/sunday-morning-service/
LOCATION:FMCOC\, 3500 Fowler St\, Fort Myers\, FL\, 33901
CATEGORIES:Services
ATTACH;FMTTYPE=image/jpeg:https://fmcoc.net/wp-content/uploads/2021/03/fmcoc-sundays.jpg
END:VEVENT
BEGIN:VEVENT
DTSTART;TZID=America/New_York:20220724T100000
DTEND;TZID=America/New_York:20220724T120000
DTSTAMP:20260423T231710
CREATED:20210902T234829Z
LAST-MODIFIED:20220613T170238Z
UID:15819-1658656800-1658664000@fmcoc.net
SUMMARY:Sunday Morning Service
DESCRIPTION:Pastor Lynn Braco invites you to join us every Sunday morning\, 1o AM\, at FMCOC in Fort Myers. You’re welcome to join us in-person\, or live-stream on our Facebook page or here on our website. \nAt FMCOC\, we believe the Bible is the inspired\, infallible and authoritative Word of God. We believe there is one God\, eternally existent in three persons; God the Father\, God the Son\, and God the Holy Spirit. We believe in the deity of our Lord Jesus Christ\, in His virgin birth\, in His sinless life\, in His miracles\, in His vicarious and atoning death\, in His bodily resurrection\, in His ascension to the right hand of the Father!
URL:https://fmcoc.net/event/sunday-morning-service-5/
CATEGORIES:Services
ATTACH;FMTTYPE=image/jpeg:https://fmcoc.net/wp-content/uploads/2021/03/fmcoc-sundays.jpg
END:VEVENT
END:VCALENDAR