BEGIN:VCALENDAR
VERSION:2.0
PRODID:-//Fort Myers Christian Outreach Center - ECPv5.4.0.1//NONSGML v1.0//EN
CALSCALE:GREGORIAN
METHOD:PUBLISH
X-WR-CALNAME:Fort Myers Christian Outreach Center
X-ORIGINAL-URL:https://fmcoc.net
X-WR-CALDESC:Events for Fort Myers Christian Outreach Center
BEGIN:VTIMEZONE
TZID:America/New_York
BEGIN:DAYLIGHT
TZOFFSETFROM:-0500
TZOFFSETTO:-0400
TZNAME:EDT
DTSTART:20210314T070000
END:DAYLIGHT
BEGIN:STANDARD
TZOFFSETFROM:-0400
TZOFFSETTO:-0500
TZNAME:EST
DTSTART:20211107T060000
END:STANDARD
END:VTIMEZONE
BEGIN:VEVENT
DTSTART;TZID=America/New_York:20210907T090000
DTEND;TZID=America/New_York:20210907T120000
DTSTAMP:20260424T133950
CREATED:20210310T232628Z
LAST-MODIFIED:20210902T232822Z
UID:15576-1631005200-1631016000@fmcoc.net
SUMMARY:Heavenly Manna Food Pantry & Clothes Closet (summer hours)
DESCRIPTION:Every Tuesday and Thursday\, 9 AM to Noon\, FMCOC gives food and clothing to hundreds. No one is turned away. This ministry is supported by FMCOC Partners. The food is purchased each week from Harry Chapin Food Distrubution Center. It is top quality and always fresh. Each person is always shown love and that God loves them! Mathew 25:35-36 (NKJV)
URL:https://fmcoc.net/event/heavenly-manna-food-pantry-and-clothes-closet-3/
LOCATION:FMCOC\, 3500 Fowler St\, Fort Myers\, FL\, 33901
CATEGORIES:Food Pantry
ATTACH;FMTTYPE=image/jpeg:https://fmcoc.net/wp-content/uploads/2021/03/food-pantry-fmcoc.jpg
END:VEVENT
END:VCALENDAR